BEGIN:VCALENDAR
METHOD:PUBLISH
PRODID:Data::ICal 0.13
VERSION:2.0
BEGIN:VEVENT
DESCRIPTION:Houston, get ready. J. Cole is bringing The Fall Off Tour to the Toyota Center on September 16, and it is already shaping up to be one of the most anticipated hip hop shows of the year. Known for his lyrical depth, storytelling, and powerful stage presence, Cole has built a reputation for turning every arena into an intimate experience. From chart topping anthems to introspective fan favorites, this tour promises a night that will have Houston rapping every word right along with him.
DTSTAMP:20260420T133204Z
DTSTART;TZID=America/Chicago:20260916T060927
DTEND;TZID=America/Chicago:20260917T060927
LOCATION:Houston\, Texas
SUMMARY:J. Cole &#8216;The Fall-Off&#8217; Tour | Coming Sept. 16-17 to Toyota Center
UID:11940722-1789538967-1789625367
END:VEVENT
END:VCALENDAR
