BEGIN:VCALENDAR
METHOD:PUBLISH
PRODID:Data::ICal 0.13
VERSION:2.0
BEGIN:VEVENT
DESCRIPTION:Global superstar Doja Cat is bringing her highly anticipated Tour Ma Vie 2026 World Tour to Houston for one unforgettable night at Toyota Center on Saturday, November 7, 2026. Known for her electrifying performances, bold visuals, and chart topping hits, Doja Cat is set to deliver a show packed with energy, creativity, and nonstop moments fans will not want to miss.
DTSTAMP:20260425T132746Z
DTSTART;TZID=America/Chicago:20261107T143500
DTEND;TZID=America/Chicago:20261107T143529
LOCATION:Houston\, Texas\, 77056
SUMMARY:Doja Cat&#8217;s Tour Ma Via 2026 World Tour Coming to Houston Nov. 7
UID:11940957-1794062100-1794062129
END:VEVENT
END:VCALENDAR
