BEGIN:VCALENDAR
METHOD:PUBLISH
PRODID:Data::ICal 0.13
VERSION:2.0
BEGIN:VEVENT
DESCRIPTION:Houston is getting ready for a major night of R&amp;B as Chris Brown and Usher team up for The R and B Tour, making a highly anticipated stop at NRG Stadium. With decades of hits between them, both artists have defined eras of R&amp;B, and now fans will get to experience that energy live on one stage. From classic slow jams to high energy performances, this show is shaping up to be one of the biggest concert moments of the year in the city. 



The tour is set to hit Houston on Friday, October 9, and tickets are expected to move fast once they become available. Fans can mark their calendars for the official on sale date, happening Monday, April 27 at 12PM. If you are a true R&amp;B fan, this is your chance to see two legends deliver an unforgettable night at NRG Stadium.
DTSTAMP:20260422T091511Z
DTSTART;TZID=America/Chicago:20261009T110906
DTEND;TZID=America/Chicago:20261009T110906
LOCATION:1 NRG Pkwy\, Houston\, Texas
SUMMARY:Chris Brown and Usher Bring The R and B Tour to Houston October 9
UID:11946899-1791544146-1791544146
END:VEVENT
END:VCALENDAR
